BEGIN:VCALENDAR
VERSION:2.0
METHOD:PUBLISH
BEGIN:VEVENT
DTSTART:20260618T080000Z
DTEND:20260618T110000Z
LOCATION:Warszawa
TRANSP: OPAQUE
SEQUENCE:0
UID:
DTSTAMP:20260420T085346Z
SUMMARY:BHP i PPOŻ.
DESCRIPTION:Zagrożenia związane z pracą na wysokości i sposoby im zapobiegania, w tym zabezpieczenia przed upadkiem
PRIORITY:1
CLASS:PUBLIC
BEGIN:VALARM
TRIGGER:-PT10080M
ACTION:DISPLAY
DESCRIPTION:Reminder
END:VALARM
END:VEVENT
END:VCALENDAR
