BEGIN:VCALENDAR
VERSION:2.0
METHOD:PUBLISH
BEGIN:VEVENT
DTSTART:20260526T090000Z
DTEND:20260526T130000Z
LOCATION:Poznań
TRANSP: OPAQUE
SEQUENCE:0
UID:
DTSTAMP:20260420T081317Z
SUMMARY:Szkolenia miękkie
DESCRIPTION:Włączenie osób transpłciowych w miejscu pracy: wyzwania, podstawy prawne i dobre praktyki
PRIORITY:1
CLASS:PUBLIC
BEGIN:VALARM
TRIGGER:-PT10080M
ACTION:DISPLAY
DESCRIPTION:Reminder
END:VALARM
END:VEVENT
END:VCALENDAR
