BEGIN:VCALENDAR
VERSION:2.0
METHOD:PUBLISH
BEGIN:VEVENT
DTSTART:20260421T090000Z
DTEND:20260421T130000Z
LOCATION:Poznań
TRANSP: OPAQUE
SEQUENCE:0
UID:
DTSTAMP:20260419T232403Z
SUMMARY:Pozostałe szkolenia i kursy
DESCRIPTION:Wielopokoleniowość i wielokulturowość w organizacji
PRIORITY:1
CLASS:PUBLIC
BEGIN:VALARM
TRIGGER:-PT10080M
ACTION:DISPLAY
DESCRIPTION:Reminder
END:VALARM
END:VEVENT
END:VCALENDAR
