BEGIN:VCALENDAR
VERSION:2.0
METHOD:PUBLISH
BEGIN:VEVENT
DTSTART:20260529T090000Z
DTEND:20260529T130000Z
LOCATION:Wrocław
TRANSP: OPAQUE
SEQUENCE:0
UID:
DTSTAMP:20260422T103500Z
SUMMARY:ADR
DESCRIPTION:ADR – Obowiązki uczestników przewozu substancji niebezpiecznych
PRIORITY:1
CLASS:PUBLIC
BEGIN:VALARM
TRIGGER:-PT10080M
ACTION:DISPLAY
DESCRIPTION:Reminder
END:VALARM
END:VEVENT
END:VCALENDAR
