BEGIN:VCALENDAR
VERSION:2.0
METHOD:PUBLISH
BEGIN:VEVENT
DTSTART:20260424T090000Z
DTEND:20260424T113000Z
LOCATION:Poznań
TRANSP: OPAQUE
SEQUENCE:0
UID:
DTSTAMP:20260422T114658Z
SUMMARY:ppoż.
DESCRIPTION:Jak bezpiecznie zarządzać ryzykiem związanym z bateriami litowo-jonowymi
PRIORITY:1
CLASS:PUBLIC
BEGIN:VALARM
TRIGGER:-PT10080M
ACTION:DISPLAY
DESCRIPTION:Reminder
END:VALARM
END:VEVENT
END:VCALENDAR
