BEGIN:VCALENDAR
VERSION:2.0
METHOD:PUBLISH
BEGIN:VEVENT
DTSTART:20260520T090000Z
DTEND:20260520T140000Z
LOCATION:Katowice
TRANSP: OPAQUE
SEQUENCE:0
UID:
DTSTAMP:20260419T141242Z
SUMMARY:bhp specjalistyczne
DESCRIPTION:Szkolenie bhp dla  społecznych inspektorów pracy
PRIORITY:1
CLASS:PUBLIC
BEGIN:VALARM
TRIGGER:-PT10080M
ACTION:DISPLAY
DESCRIPTION:Reminder
END:VALARM
END:VEVENT
END:VCALENDAR
