BEGIN:VCALENDAR
VERSION:2.0
METHOD:PUBLISH
BEGIN:VEVENT
DTSTART:20260611T090000Z
DTEND:20260611T113000Z
LOCATION:Centrala Dział Szkolenia
TRANSP: OPAQUE
SEQUENCE:0
UID:
DTSTAMP:20260425T145343Z
SUMMARY:Prawo pracy
DESCRIPTION:Bezpieczeństwo prawne stosowania umów zlecenia i umów B2B – nowe uprawnienia kontrolne PIP
PRIORITY:1
CLASS:PUBLIC
BEGIN:VALARM
TRIGGER:-PT10080M
ACTION:DISPLAY
DESCRIPTION:Reminder
END:VALARM
END:VEVENT
END:VCALENDAR
