BEGIN:VCALENDAR
VERSION:2.0
METHOD:PUBLISH
BEGIN:VEVENT
DTSTART:20260615T090000Z
DTEND:20260615T120000Z
LOCATION:Bielsko-Biała
TRANSP: OPAQUE
SEQUENCE:0
UID:
DTSTAMP:20260424T173651Z
SUMMARY:Cyberbezpieczeństwo
DESCRIPTION:Mobbing i Cyberprzemoc: strategie prewencji, odpowiedzialność i standardy nowoczesnej kultury pracy
PRIORITY:1
CLASS:PUBLIC
BEGIN:VALARM
TRIGGER:-PT10080M
ACTION:DISPLAY
DESCRIPTION:Reminder
END:VALARM
END:VEVENT
END:VCALENDAR
